BEGIN:VCALENDAR
VERSION:2.0
PRODID:-//FW Shows - ECPv6.15.11//NONSGML v1.0//EN
CALSCALE:GREGORIAN
METHOD:PUBLISH
X-WR-CALNAME:FW Shows
X-ORIGINAL-URL:https://fwshows.com
X-WR-CALDESC:Events for FW Shows
REFRESH-INTERVAL;VALUE=DURATION:PT1H
X-Robots-Tag:noindex
X-PUBLISHED-TTL:PT1H
BEGIN:VTIMEZONE
TZID:America/Halifax
BEGIN:DAYLIGHT
TZOFFSETFROM:-0400
TZOFFSETTO:-0300
TZNAME:ADT
DTSTART:20230312T060000
END:DAYLIGHT
BEGIN:STANDARD
TZOFFSETFROM:-0300
TZOFFSETTO:-0400
TZNAME:AST
DTSTART:20231105T050000
END:STANDARD
BEGIN:DAYLIGHT
TZOFFSETFROM:-0400
TZOFFSETTO:-0300
TZNAME:ADT
DTSTART:20240310T060000
END:DAYLIGHT
BEGIN:STANDARD
TZOFFSETFROM:-0300
TZOFFSETTO:-0400
TZNAME:AST
DTSTART:20241103T050000
END:STANDARD
BEGIN:DAYLIGHT
TZOFFSETFROM:-0400
TZOFFSETTO:-0300
TZNAME:ADT
DTSTART:20250309T060000
END:DAYLIGHT
BEGIN:STANDARD
TZOFFSETFROM:-0300
TZOFFSETTO:-0400
TZNAME:AST
DTSTART:20251102T050000
END:STANDARD
END:VTIMEZONE
BEGIN:VEVENT
DTSTART;TZID=America/Halifax:20240506T183000
DTEND;TZID=America/Halifax:20240506T233000
DTSTAMP:20260424T162310
CREATED:20240131T140002Z
LAST-MODIFIED:20240131T010536Z
UID:208-1715020200-1715038200@fwshows.com
SUMMARY:THE CHISEL
DESCRIPTION:PhillyShows\, FW Shows\, and Broken Goblet present THE CHISEL and HOME FRONT\, Monday\, May 6th. \nUK Street Punk standouts\, The Chisel drop their highly anticipated new LP\, What a Fucking Nightmare\, Ferbruary 9th on Pure Noise Records and are hitting the road with Canadian New Wave punks Home Front. Specials Guests to be announced. \nDoors are 6:30 PM\, 18+ to Enter\, Advance Tickets are $25\, $30 Day of Show
URL:https://fwshows.com/event/the-chisel/
LOCATION:Broken Goblet\, 2500 State Rd. Unit D\, Bensalem\, PA\, 19020\, United States
ATTACH;FMTTYPE=image/png:https://fwshows.com/wp-content/uploads/2024/01/thechisel051724-SQfeature.png
END:VEVENT
END:VCALENDAR