BEGIN:VCALENDAR
VERSION:2.0
PRODID:-//FW Shows - ECPv6.15.11//NONSGML v1.0//EN
CALSCALE:GREGORIAN
METHOD:PUBLISH
X-ORIGINAL-URL:https://fwshows.com
X-WR-CALDESC:Events for FW Shows
REFRESH-INTERVAL;VALUE=DURATION:PT1H
X-Robots-Tag:noindex
X-PUBLISHED-TTL:PT1H
BEGIN:VTIMEZONE
TZID:America/Halifax
BEGIN:DAYLIGHT
TZOFFSETFROM:-0400
TZOFFSETTO:-0300
TZNAME:ADT
DTSTART:20240310T060000
END:DAYLIGHT
BEGIN:STANDARD
TZOFFSETFROM:-0300
TZOFFSETTO:-0400
TZNAME:AST
DTSTART:20241103T050000
END:STANDARD
BEGIN:DAYLIGHT
TZOFFSETFROM:-0400
TZOFFSETTO:-0300
TZNAME:ADT
DTSTART:20250309T060000
END:DAYLIGHT
BEGIN:STANDARD
TZOFFSETFROM:-0300
TZOFFSETTO:-0400
TZNAME:AST
DTSTART:20251102T050000
END:STANDARD
BEGIN:DAYLIGHT
TZOFFSETFROM:-0400
TZOFFSETTO:-0300
TZNAME:ADT
DTSTART:20260308T060000
END:DAYLIGHT
BEGIN:STANDARD
TZOFFSETFROM:-0300
TZOFFSETTO:-0400
TZNAME:AST
DTSTART:20261101T050000
END:STANDARD
END:VTIMEZONE
BEGIN:VEVENT
DTSTART;TZID=America/Halifax:20250607T140000
DTEND;TZID=America/Halifax:20250607T230000
DTSTAMP:20260420T213754
CREATED:20241126T140028Z
LAST-MODIFIED:20241126T025915Z
UID:390-1749304800-1749337200@fwshows.com
SUMMARY:DERBY PUNKS 25TH CLASS REUNION
DESCRIPTION:ItsDiscoHour.com and FW Shows present Derby Punks: The 25th Class Reunion! \nFrom 1998-2000\, Bordentown\, New Jersey’s Derby Firehouse punk scene defined an era. Well\, start lacing up your Docs\, because we’re going back 25 years with the bands and kids that made it happen. Join us for a last-in-a-lifetime fest at Broken Goblet featuring performances by Catch 22\, Humble Beginnings\, Boxcar\, Simple Mischief\, Shower With Goats\, Go Real Slow\, Yermomlluvus\, Take Today\, and more. Tickets are on sale now. \nDoors 2PM\, All Ages to Enter\, Advance Tickets $30
URL:https://fwshows.com/event/derby-punks-25th-class-reunion/
LOCATION:Broken Goblet\, 2500 State Rd. Unit D\, Bensalem\, PA\, 19020\, United States
ATTACH;FMTTYPE=image/png:https://fwshows.com/wp-content/uploads/2024/11/derbypunks060725-IGVer03.png
END:VEVENT
END:VCALENDAR