BEGIN:VCALENDAR
VERSION:2.0
PRODID:-//FW Shows - ECPv6.15.11//NONSGML v1.0//EN
CALSCALE:GREGORIAN
METHOD:PUBLISH
X-WR-CALNAME:FW Shows
X-ORIGINAL-URL:https://fwshows.com
X-WR-CALDESC:Events for FW Shows
REFRESH-INTERVAL;VALUE=DURATION:PT1H
X-Robots-Tag:noindex
X-PUBLISHED-TTL:PT1H
BEGIN:VTIMEZONE
TZID:America/Halifax
BEGIN:DAYLIGHT
TZOFFSETFROM:-0400
TZOFFSETTO:-0300
TZNAME:ADT
DTSTART:20240310T060000
END:DAYLIGHT
BEGIN:STANDARD
TZOFFSETFROM:-0300
TZOFFSETTO:-0400
TZNAME:AST
DTSTART:20241103T050000
END:STANDARD
BEGIN:DAYLIGHT
TZOFFSETFROM:-0400
TZOFFSETTO:-0300
TZNAME:ADT
DTSTART:20250309T060000
END:DAYLIGHT
BEGIN:STANDARD
TZOFFSETFROM:-0300
TZOFFSETTO:-0400
TZNAME:AST
DTSTART:20251102T050000
END:STANDARD
BEGIN:DAYLIGHT
TZOFFSETFROM:-0400
TZOFFSETTO:-0300
TZNAME:ADT
DTSTART:20260308T060000
END:DAYLIGHT
BEGIN:STANDARD
TZOFFSETFROM:-0300
TZOFFSETTO:-0400
TZNAME:AST
DTSTART:20261101T050000
END:STANDARD
END:VTIMEZONE
BEGIN:VEVENT
DTSTART;TZID=America/Halifax:20250425T180000
DTEND;TZID=America/Halifax:20250427T230000
DTSTAMP:20260420T035403
CREATED:20241004T021318Z
LAST-MODIFIED:20241006T135014Z
UID:356-1745604000-1745794800@fwshows.com
SUMMARY:THIS IS NOT CROYDON FEST 6
DESCRIPTION:TICKETS GO ON SALE FRIDAY\, OCTOBER 4TH AT 10AM \nThis Is Not Croydon Fest 6 is back – Friday\, April 25th\, Saturday\, April 26th\, and Sunday\, April 27th\, 2025 at Broken Goblet Brewing in Bensalem\, Pennsylvania featuring… \nFriday\, April 25th\nThe Scofflaws\nJ. Navarro & the Traitors\nSgt. Scag\nThe Heavy Beat\nThe Abruptors \nSaturday\, April 26th\nStubborn All-Stars\nBig D and the Kids Table\nBuck-O-Nine\nThe Planet Smashers\nRandom Hand\nThe Readymen (Reunion)\nBite Me Bambi\nBrunt Of It\nThe Phensic\nGirth Control \nSunday\, April 27th\nThe Pietasters\nCatbite\nKill Lincoln\nMephiskapheles\nHub City Stompers\nWestbound Train\nThe Bandulus\nPWRUP \nMust be 18+ to Enter\, 2 Day Passes\, Single Day Tickets\, and VIP Access (NEW!) go on sale Friday\, October 4th at 10AM!
URL:https://fwshows.com/event/this-is-not-croydon-fest-6/
LOCATION:Broken Goblet\, 2500 State Rd. Unit D\, Bensalem\, PA\, 19020\, United States
ATTACH;FMTTYPE=image/png:https://fwshows.com/wp-content/uploads/2024/10/TINCF6-FB-Small-Square.png
END:VEVENT
END:VCALENDAR