BEGIN:VCALENDAR
VERSION:2.0
PRODID:-//FW Shows - ECPv6.15.11//NONSGML v1.0//EN
CALSCALE:GREGORIAN
METHOD:PUBLISH
X-ORIGINAL-URL:https://fwshows.com
X-WR-CALDESC:Events for FW Shows
REFRESH-INTERVAL;VALUE=DURATION:PT1H
X-Robots-Tag:noindex
X-PUBLISHED-TTL:PT1H
BEGIN:VTIMEZONE
TZID:America/New_York
BEGIN:DAYLIGHT
TZOFFSETFROM:-0500
TZOFFSETTO:-0400
TZNAME:EDT
DTSTART:20240310T070000
END:DAYLIGHT
BEGIN:STANDARD
TZOFFSETFROM:-0400
TZOFFSETTO:-0500
TZNAME:EST
DTSTART:20241103T060000
END:STANDARD
BEGIN:DAYLIGHT
TZOFFSETFROM:-0500
TZOFFSETTO:-0400
TZNAME:EDT
DTSTART:20250309T070000
END:DAYLIGHT
BEGIN:STANDARD
TZOFFSETFROM:-0400
TZOFFSETTO:-0500
TZNAME:EST
DTSTART:20251102T060000
END:STANDARD
BEGIN:DAYLIGHT
TZOFFSETFROM:-0500
TZOFFSETTO:-0400
TZNAME:EDT
DTSTART:20260308T070000
END:DAYLIGHT
BEGIN:STANDARD
TZOFFSETFROM:-0400
TZOFFSETTO:-0500
TZNAME:EST
DTSTART:20261101T060000
END:STANDARD
END:VTIMEZONE
BEGIN:VEVENT
DTSTART;TZID=America/New_York:20250731T190000
DTEND;TZID=America/New_York:20250731T230000
DTSTAMP:20260419T233314
CREATED:20250528T140045Z
LAST-MODIFIED:20250701T164500Z
UID:455-1753988400-1754002800@fwshows.com
SUMMARY:THE DOLLYROTS
DESCRIPTION:FW Shows and Broken Goblet present The Dollyrots on their Get on This Ride 2025 tour with Black WidowS. \nTICKETS ON SALE FRIDAY JULY 30TH AT 10AM. \nFor over 20 years\, The Dollyrots have been a shining example of how to mix raw punk energy with catchy\, bubblegum melodies\, all while living life entirely on their terms. Fronted by bassist and vocalist Kelly Ogden and guitarist Luis Cabezas\, this power duo has built a legacy of anthemic tunes\, relentless touring\, and an unwavering DIY ethos. But what sets them apart isn’t just their music—it’s their ability to balance the chaos of punk rock with raising kids that are now old enough to take the stage on their own. \nThe band has released eight studio albums and played over two thousand shows since their 2004 debut on legendary punk label Lookout! Records. The next two albums came out through Joan Jett’s Blackheart Records\, followed by several DIY\, fan-funded releases and a current alliance with Wicked Cool Records. Long a staple in rotation on Sirius/XM’s Little Steven’s Underground Garage\, the band’s consistent output has garnered them attention from far and wide. \nBlack Widows are a DIY surf-punk band from Minneapolis serving up wild surf guitar\, riot grrrl vocals\, and slick bass grooves. \nAltarboy is a punk rock band from Philadelphia\, Pennsylvania\, comprised of Sean Flanagan (Bass/Vocals)\, Ben Harkins (Guitar)\, Adam Kelly (Guitar)\, and Nick Held (Drums). With just a year under their belt\, they stand out with high-octane live performances\, campy matching uniforms\, and a vintage horror-inspired aesthetic. Their music is fast\, loud\, and irresistibly catchy – blending aggression with hooks that sink in deep. Catch them live…..before they catch you! \nDoors 7PM\, 18+ to Enter\, Advance Tickets $20\, Day of Show $25.
URL:https://fwshows.com/event/the-dollyrots/
LOCATION:Music Room at Broken Goblet\, 2500 State Rd. Unit D\, Bensalem\, PA\, 19020\, United States
ATTACH;FMTTYPE=image/png:https://fwshows.com/wp-content/uploads/2025/05/Dollyrots-073125-SQ-Feature.png
END:VEVENT
END:VCALENDAR